BEGIN:VCALENDAR
VERSION:2.0
PRODID:icalendar-ruby
CALSCALE:GREGORIAN
METHOD:PUBLISH
BEGIN:VEVENT
DTSTAMP:20260420T194703Z
UID:10-2837333@utqiagvikpc.org
DTSTART:20241010T033000Z
DTEND:20241010T050000Z
CLASS:PUBLIC
CREATED:20260420T102623
DESCRIPTION:Enjoy a traditional Wednesday Night Service (We will provide mo
 re later).\nThis will be a Zoom meeting once new arrangements are made.\n
  
LAST-MODIFIED:20260420T102623
LOCATION:
SUMMARY:Wednesday Night Service Under New Arrangement
URL;VALUE=URI:https://www.utqiagvikpc.com/events/wednesday-night-service-un
 der-new-arrangement/2024-10-09
ATTACH;FILENAME=cross.jpg;FMTTYPE=image/jpeg:https://dq5pwpg1q8ru0.cloudfro
 nt.net/2020/06/03/21/03/59/a5661c2d-111e-41a8-a69c-978e85ee2b55/cross.jpg
END:VEVENT
END:VCALENDAR
